Package: hgu133abarcodevecs Version: 1.49.0 Maintainer: Matthew N. McCall MaintainerEmail: mmccall at jhsph.edu git_url: https://git.bioconductor.org/packages/hgu133abarcodevecs git_branch: devel git_last_commit: 697af76 git_last_commit_date: 2025-10-29 09:31:49 -0500 (Wed, 29 Oct 2025)