Package: healthyFlowData Version: 1.49.0 Command: /home/biocbuild/bbs-3.23-bioc/R/bin/R CMD check --install=check:healthyFlowData.install-out.txt --library=/home/biocbuild/bbs-3.23-bioc/R/site-library --timings healthyFlowData_1.49.0.tar.gz StartedAt: 2025-11-11 12:26:37 -0500 (Tue, 11 Nov 2025) EndedAt: 2025-11-11 12:27:11 -0500 (Tue, 11 Nov 2025) EllapsedTime: 34.3 seconds RetCode: 0 Status: OK CheckDir: healthyFlowData.Rcheck Warnings: 0