Package: healthyControlsPresenceChecker Version: 1.15.0 Command: /home/biocbuild/bbs-3.23-bioc/R/bin/R CMD INSTALL healthyControlsPresenceChecker StartedAt: 2025-11-11 11:01:17 -0500 (Tue, 11 Nov 2025) EndedAt: 2025-11-11 11:01:39 -0500 (Tue, 11 Nov 2025) EllapsedTime: 21.6 seconds RetCode: 0 Status: OK