Package: hapmapsnp6 Version: 1.53.0 Command: /home/biocbuild/bbs-3.23-bioc/R/bin/R CMD INSTALL hapmapsnp6 StartedAt: 2025-11-11 10:55:23 -0500 (Tue, 11 Nov 2025) EndedAt: 2025-11-11 10:55:47 -0500 (Tue, 11 Nov 2025) EllapsedTime: 24.1 seconds RetCode: 0 Status: OK