Package: hapmapsnp5 Version: 1.53.0 Command: /home/biocbuild/bbs-3.23-bioc/R/bin/R CMD check --install=check:hapmapsnp5.install-out.txt --library=/home/biocbuild/bbs-3.23-bioc/R/site-library --timings hapmapsnp5_1.53.0.tar.gz StartedAt: 2025-11-11 12:25:10 -0500 (Tue, 11 Nov 2025) EndedAt: 2025-11-11 12:25:31 -0500 (Tue, 11 Nov 2025) EllapsedTime: 21.6 seconds RetCode: 0 Status: OK CheckDir: hapmapsnp5.Rcheck Warnings: 0