Package: hapmap500ksty Version: 1.53.0 Command: /home/biocbuild/bbs-3.23-bioc/R/bin/R CMD check --install=check:hapmap500ksty.install-out.txt --library=/home/biocbuild/bbs-3.23-bioc/R/site-library --timings hapmap500ksty_1.53.0.tar.gz StartedAt: 2025-11-11 12:25:09 -0500 (Tue, 11 Nov 2025) EndedAt: 2025-11-11 12:25:33 -0500 (Tue, 11 Nov 2025) EllapsedTime: 24.3 seconds RetCode: 0 Status: OK CheckDir: hapmap500ksty.Rcheck Warnings: 0