Package: hapmap500knsp Version: 1.53.0 Command: /home/biocbuild/bbs-3.23-bioc/R/bin/R CMD INSTALL hapmap500knsp StartedAt: 2025-11-11 10:55:33 -0500 (Tue, 11 Nov 2025) EndedAt: 2025-11-11 10:55:36 -0500 (Tue, 11 Nov 2025) EllapsedTime: 2.7 seconds RetCode: 0 Status: OK