Package: grndata Version: 1.43.0 Command: /home/biocbuild/bbs-3.23-bioc/R/bin/R CMD INSTALL grndata StartedAt: 2025-11-11 10:55:37 -0500 (Tue, 11 Nov 2025) EndedAt: 2025-11-11 10:55:45 -0500 (Tue, 11 Nov 2025) EllapsedTime: 8.7 seconds RetCode: 0 Status: OK