Package: grndata Version: 1.43.0 Command: /home/biocbuild/bbs-3.23-bioc/R/bin/R CMD check --install=check:grndata.install-out.txt --library=/home/biocbuild/bbs-3.23-bioc/R/site-library --timings grndata_1.43.0.tar.gz StartedAt: 2025-11-11 12:23:57 -0500 (Tue, 11 Nov 2025) EndedAt: 2025-11-11 12:24:19 -0500 (Tue, 11 Nov 2025) EllapsedTime: 22.6 seconds RetCode: 0 Status: WARNINGS CheckDir: grndata.Rcheck Warnings: 1