Package: gpaExample Version: 1.23.0 Command: /home/biocbuild/bbs-3.23-bioc/R/bin/R CMD build --keep-empty-dirs --no-resave-data gpaExample StartedAt: 2025-11-11 11:20:11 -0500 (Tue, 11 Nov 2025) EndedAt: 2025-11-11 11:20:12 -0500 (Tue, 11 Nov 2025) EllapsedTime: 1.3 seconds RetCode: 0 Status: OK PackageFile: gpaExample_1.23.0.tar.gz PackageFileSize: 11.52 MiB