Package: golubEsets Version: 1.53.0 Maintainer: Vince Carey MaintainerEmail: stvjc at channing.harvard.edu git_url: https://git.bioconductor.org/packages/golubEsets git_branch: devel git_last_commit: 3236968 git_last_commit_date: 2025-10-29 09:30:10 -0500 (Wed, 29 Oct 2025)