Package: genomationData Version: 1.43.0 Command: /home/biocbuild/bbs-3.23-bioc/R/bin/R CMD build --keep-empty-dirs --no-resave-data genomationData StartedAt: 2025-11-11 11:19:47 -0500 (Tue, 11 Nov 2025) EndedAt: 2025-11-11 11:19:56 -0500 (Tue, 11 Nov 2025) EllapsedTime: 9.5 seconds RetCode: 0 Status: OK PackageFile: genomationData_1.43.0.tar.gz PackageFileSize: 66.49 MiB