Package: geneLenDataBase Version: 1.47.0 Command: /home/biocbuild/bbs-3.23-bioc/R/bin/R CMD INSTALL geneLenDataBase StartedAt: 2025-11-11 11:01:15 -0500 (Tue, 11 Nov 2025) EndedAt: 2025-11-11 11:02:30 -0500 (Tue, 11 Nov 2025) EllapsedTime: 75.1 seconds RetCode: 0 Status: OK