Package: geneLenDataBase Version: 1.47.0 Command: /home/biocbuild/bbs-3.23-bioc/R/bin/R CMD build --keep-empty-dirs --no-resave-data geneLenDataBase StartedAt: 2025-11-11 11:19:33 -0500 (Tue, 11 Nov 2025) EndedAt: 2025-11-11 11:20:29 -0500 (Tue, 11 Nov 2025) EllapsedTime: 55.9 seconds RetCode: 0 Status: OK PackageFile: geneLenDataBase_1.47.0.tar.gz PackageFileSize: 95.79 MiB