Package: gageData Version: 2.49.0 Command: /home/biocbuild/bbs-3.23-bioc/R/bin/R CMD check --install=check:gageData.install-out.txt --library=/home/biocbuild/bbs-3.23-bioc/R/site-library --timings gageData_2.49.0.tar.gz StartedAt: 2025-11-13 12:25:11 -0500 (Thu, 13 Nov 2025) EndedAt: 2025-11-13 12:26:33 -0500 (Thu, 13 Nov 2025) EllapsedTime: 82.6 seconds RetCode: 0 Status: OK CheckDir: gageData.Rcheck Warnings: 0