Package: gDRtestData Version: 1.9.1 Command: /home/biocbuild/bbs-3.23-bioc/R/bin/R CMD INSTALL gDRtestData StartedAt: 2025-11-13 10:56:01 -0500 (Thu, 13 Nov 2025) EndedAt: 2025-11-13 10:56:04 -0500 (Thu, 13 Nov 2025) EllapsedTime: 3.2 seconds RetCode: 0 Status: OK