Package: gDRtestData Version: 1.9.1 Command: /home/biocbuild/bbs-3.23-bioc/R/bin/R CMD check --install=check:gDRtestData.install-out.txt --library=/home/biocbuild/bbs-3.23-bioc/R/site-library --timings gDRtestData_1.9.1.tar.gz StartedAt: 2025-11-11 12:23:09 -0500 (Tue, 11 Nov 2025) EndedAt: 2025-11-11 12:23:49 -0500 (Tue, 11 Nov 2025) EllapsedTime: 39.5 seconds RetCode: 0 Status: OK CheckDir: gDRtestData.Rcheck Warnings: 0