Package: gDRtestData Version: 1.9.1 Command: /home/biocbuild/bbs-3.23-bioc/R/bin/R CMD build --keep-empty-dirs --no-resave-data gDRtestData StartedAt: 2025-11-13 11:19:51 -0500 (Thu, 13 Nov 2025) EndedAt: 2025-11-13 11:19:56 -0500 (Thu, 13 Nov 2025) EllapsedTime: 5.0 seconds RetCode: 0 Status: OK PackageFile: gDRtestData_1.9.1.tar.gz PackageFileSize: 8.156 MiB