Package: gDRtestData Version: 1.9.1 Maintainer: Arkadiusz Gladki MaintainerEmail: gladki.arkadiusz at gmail.com git_url: https://git.bioconductor.org/packages/gDRtestData git_branch: devel git_last_commit: dde35d0 git_last_commit_date: 2025-10-30 05:32:19 -0500 (Thu, 30 Oct 2025)