Package: gDNAinRNAseqData Version: 1.11.0 Command: /home/biocbuild/bbs-3.23-bioc/R/bin/R CMD check --install=check:gDNAinRNAseqData.install-out.txt --library=/home/biocbuild/bbs-3.23-bioc/R/site-library --timings gDNAinRNAseqData_1.11.0.tar.gz StartedAt: 2025-11-11 12:23:05 -0500 (Tue, 11 Nov 2025) EndedAt: 2025-11-11 12:26:11 -0500 (Tue, 11 Nov 2025) EllapsedTime: 186.1 seconds RetCode: 0 Status: OK CheckDir: gDNAinRNAseqData.Rcheck Warnings: 0