Package: furrowSeg Version: 1.39.0 Command: /home/biocbuild/bbs-3.23-bioc/R/bin/R CMD build --keep-empty-dirs --no-resave-data furrowSeg StartedAt: 2025-11-11 11:19:12 -0500 (Tue, 11 Nov 2025) EndedAt: 2025-11-11 11:24:14 -0500 (Tue, 11 Nov 2025) EllapsedTime: 301.7 seconds RetCode: 0 Status: OK PackageFile: furrowSeg_1.39.0.tar.gz PackageFileSize: 349.3 MiB