Package: frmaExampleData Version: 1.47.0 Command: /home/biocbuild/bbs-3.23-bioc/R/bin/R CMD build --keep-empty-dirs --no-resave-data frmaExampleData StartedAt: 2025-11-11 11:19:08 -0500 (Tue, 11 Nov 2025) EndedAt: 2025-11-11 11:19:12 -0500 (Tue, 11 Nov 2025) EllapsedTime: 4.0 seconds RetCode: 0 Status: OK PackageFile: frmaExampleData_1.47.0.tar.gz PackageFileSize: 15.88 MiB