Package: fourDNData Version: 1.11.0 Command: /home/biocbuild/bbs-3.23-bioc/R/bin/R CMD check --install=check:fourDNData.install-out.txt --library=/home/biocbuild/bbs-3.23-bioc/R/site-library --timings fourDNData_1.11.0.tar.gz StartedAt: 2025-11-11 12:21:03 -0500 (Tue, 11 Nov 2025) EndedAt: 2025-11-11 12:23:12 -0500 (Tue, 11 Nov 2025) EllapsedTime: 129.2 seconds RetCode: 0 Status: OK CheckDir: fourDNData.Rcheck Warnings: 0