Package: flowWorkspaceData Version: 3.23.0 Command: /home/biocbuild/bbs-3.23-bioc/R/bin/R CMD build --keep-empty-dirs --no-resave-data flowWorkspaceData StartedAt: 2025-11-11 11:18:40 -0500 (Tue, 11 Nov 2025) EndedAt: 2025-11-11 11:18:55 -0500 (Tue, 11 Nov 2025) EllapsedTime: 15.0 seconds RetCode: 0 Status: OK PackageFile: flowWorkspaceData_3.23.0.tar.gz PackageFileSize: 71.15 MiB