Package: flowPloidyData Version: 1.37.0 Maintainer: Tyler Smith MaintainerEmail: tyler at plantarum.ca git_url: https://git.bioconductor.org/packages/flowPloidyData git_branch: devel git_last_commit: 85c7d5c git_last_commit_date: 2025-10-29 09:59:05 -0500 (Wed, 29 Oct 2025)