Package: fission Version: 1.31.0 Command: /home/biocbuild/bbs-3.23-bioc/R/bin/R CMD check --install=check:fission.install-out.txt --library=/home/biocbuild/bbs-3.23-bioc/R/site-library --timings fission_1.31.0.tar.gz StartedAt: 2025-11-13 12:22:39 -0500 (Thu, 13 Nov 2025) EndedAt: 2025-11-13 12:23:37 -0500 (Thu, 13 Nov 2025) EllapsedTime: 57.2 seconds RetCode: 0 Status: OK CheckDir: fission.Rcheck Warnings: 0