Package: fission Version: 1.31.0 Command: /home/biocbuild/bbs-3.23-bioc/R/bin/R CMD build --keep-empty-dirs --no-resave-data fission StartedAt: 2025-11-11 11:17:27 -0500 (Tue, 11 Nov 2025) EndedAt: 2025-11-11 11:17:44 -0500 (Tue, 11 Nov 2025) EllapsedTime: 16.6 seconds RetCode: 0 Status: OK PackageFile: fission_1.31.0.tar.gz PackageFileSize: 427 KiB