Package: fibroEset Version: 1.53.0 Command: /home/biocbuild/bbs-3.23-bioc/R/bin/R CMD build --keep-empty-dirs --no-resave-data fibroEset StartedAt: 2025-11-11 11:17:24 -0500 (Tue, 11 Nov 2025) EndedAt: 2025-11-11 11:17:26 -0500 (Tue, 11 Nov 2025) EllapsedTime: 1.3 seconds RetCode: 0 Status: OK PackageFile: fibroEset_1.53.0.tar.gz PackageFileSize: 1.81 MiB