Package: ffpeExampleData Version: 1.49.0 Command: /home/biocbuild/bbs-3.23-bioc/R/bin/R CMD INSTALL ffpeExampleData StartedAt: 2025-11-13 11:03:06 -0500 (Thu, 13 Nov 2025) EndedAt: 2025-11-13 11:03:35 -0500 (Thu, 13 Nov 2025) EllapsedTime: 28.6 seconds RetCode: 0 Status: OK