Package: faahKO Version: 1.51.0 Command: /home/biocbuild/bbs-3.23-bioc/R/bin/R CMD INSTALL faahKO StartedAt: 2025-11-11 11:02:56 -0500 (Tue, 11 Nov 2025) EndedAt: 2025-11-11 11:03:48 -0500 (Tue, 11 Nov 2025) EllapsedTime: 51.7 seconds RetCode: 0 Status: OK