Package: faahKO Version: 1.51.0 Command: /home/biocbuild/bbs-3.23-bioc/R/bin/R CMD build --keep-empty-dirs --no-resave-data faahKO StartedAt: 2025-11-11 11:16:52 -0500 (Tue, 11 Nov 2025) EndedAt: 2025-11-11 11:17:41 -0500 (Tue, 11 Nov 2025) EllapsedTime: 48.5 seconds RetCode: 0 Status: OK PackageFile: faahKO_1.51.0.tar.gz PackageFileSize: 16.03 MiB