Package: faahKO Version: 1.51.0 Maintainer: Steffen Neumann MaintainerEmail: sneumann at ipb-halle.de git_url: https://git.bioconductor.org/packages/faahKO git_branch: devel git_last_commit: 620ca15 git_last_commit_date: 2025-10-29 09:23:33 -0500 (Wed, 29 Oct 2025)