Package: ewceData Version: 1.19.0 Maintainer: Hiranyamaya Dash MaintainerEmail: hdash.work at gmail.com git_url: https://git.bioconductor.org/packages/ewceData git_branch: devel git_last_commit: d337c62 git_last_commit_date: 2025-10-29 10:03:33 -0500 (Wed, 29 Oct 2025)