Package: etec16s Version: 1.39.0 Command: /home/biocbuild/bbs-3.23-bioc/R/bin/R CMD build --keep-empty-dirs --no-resave-data etec16s StartedAt: 2025-11-11 11:16:42 -0500 (Tue, 11 Nov 2025) EndedAt: 2025-11-11 11:16:52 -0500 (Tue, 11 Nov 2025) EllapsedTime: 9.3 seconds RetCode: 0 Status: OK PackageFile: etec16s_1.39.0.tar.gz PackageFileSize: 309.6 KiB