Package: estrogen Version: 1.57.0 Command: /home/biocbuild/bbs-3.23-bioc/R/bin/R CMD build --keep-empty-dirs --no-resave-data estrogen StartedAt: 2025-11-11 11:16:40 -0500 (Tue, 11 Nov 2025) EndedAt: 2025-11-11 11:17:55 -0500 (Tue, 11 Nov 2025) EllapsedTime: 75.0 seconds RetCode: 0 Status: OK PackageFile: estrogen_1.57.0.tar.gz PackageFileSize: 26.31 MiB