Package: estrogen Version: 1.57.0 Maintainer: Wolfgang Huber MaintainerEmail: wolfgang.huber at embl.de git_url: https://git.bioconductor.org/packages/estrogen git_branch: devel git_last_commit: 83848e7 git_last_commit_date: 2025-10-29 09:23:31 -0500 (Wed, 29 Oct 2025)