Package: epimutacionsData Version: 1.15.0 Maintainer: Leire Abarrategui MaintainerEmail: abarrategui.leire at gmail.com git_url: https://git.bioconductor.org/packages/epimutacionsData git_branch: devel git_last_commit: a9114cc git_last_commit_date: 2025-10-29 10:04:52 -0500 (Wed, 29 Oct 2025)