Package: eoPredData Version: 1.5.0 Command: /home/biocbuild/bbs-3.23-bioc/R/bin/R CMD INSTALL eoPredData StartedAt: 2025-11-13 10:56:56 -0500 (Thu, 13 Nov 2025) EndedAt: 2025-11-13 10:57:09 -0500 (Thu, 13 Nov 2025) EllapsedTime: 12.9 seconds RetCode: 0 Status: OK