Package: eoPredData Version: 1.5.0 Command: /home/biocbuild/bbs-3.23-bioc/R/bin/R CMD check --install=check:eoPredData.install-out.txt --library=/home/biocbuild/bbs-3.23-bioc/R/site-library --timings eoPredData_1.5.0.tar.gz StartedAt: 2025-11-11 12:17:41 -0500 (Tue, 11 Nov 2025) EndedAt: 2025-11-11 12:18:31 -0500 (Tue, 11 Nov 2025) EllapsedTime: 49.6 seconds RetCode: 0 Status: OK CheckDir: eoPredData.Rcheck Warnings: 0