Package: eoPredData Version: 1.5.0 Command: /home/biocbuild/bbs-3.23-bioc/R/bin/R CMD build --keep-empty-dirs --no-resave-data eoPredData StartedAt: 2025-11-13 11:16:13 -0500 (Thu, 13 Nov 2025) EndedAt: 2025-11-13 11:16:31 -0500 (Thu, 13 Nov 2025) EllapsedTime: 17.3 seconds RetCode: 0 Status: OK PackageFile: eoPredData_1.5.0.tar.gz PackageFileSize: 292.5 KiB