Package: emtdata Version: 1.19.0 Command: /home/biocbuild/bbs-3.23-bioc/R/bin/R CMD build --keep-empty-dirs --no-resave-data emtdata StartedAt: 2025-11-11 11:16:00 -0500 (Tue, 11 Nov 2025) EndedAt: 2025-11-11 11:16:51 -0500 (Tue, 11 Nov 2025) EllapsedTime: 50.9 seconds RetCode: 0 Status: OK PackageFile: emtdata_1.19.0.tar.gz PackageFileSize: 216.9 KiB