Package: ecoliLeucine Version: 1.51.0 Command: /home/biocbuild/bbs-3.23-bioc/R/bin/R CMD check --install=check:ecoliLeucine.install-out.txt --library=/home/biocbuild/bbs-3.23-bioc/R/site-library --timings ecoliLeucine_1.51.0.tar.gz StartedAt: 2025-11-11 12:16:52 -0500 (Tue, 11 Nov 2025) EndedAt: 2025-11-11 12:17:48 -0500 (Tue, 11 Nov 2025) EllapsedTime: 56.3 seconds RetCode: 0 Status: WARNINGS CheckDir: ecoliLeucine.Rcheck Warnings: 1