Package: ecoliLeucine Version: 1.51.0 Command: /home/biocbuild/bbs-3.23-bioc/R/bin/R CMD build --keep-empty-dirs --no-resave-data ecoliLeucine StartedAt: 2025-11-13 11:16:07 -0500 (Thu, 13 Nov 2025) EndedAt: 2025-11-13 11:16:09 -0500 (Thu, 13 Nov 2025) EllapsedTime: 1.6 seconds RetCode: 0 Status: OK PackageFile: ecoliLeucine_1.51.0.tar.gz PackageFileSize: 5.936 MiB