Package: easierData Version: 1.17.0 Command: /home/biocbuild/bbs-3.23-bioc/R/bin/R CMD INSTALL easierData StartedAt: 2025-11-11 11:03:56 -0500 (Tue, 11 Nov 2025) EndedAt: 2025-11-11 11:04:21 -0500 (Tue, 11 Nov 2025) EllapsedTime: 25.8 seconds RetCode: 0 Status: OK