Package: dressCheck Version: 0.49.0 Command: /home/biocbuild/bbs-3.23-bioc/R/bin/R CMD check --install=check:dressCheck.install-out.txt --library=/home/biocbuild/bbs-3.23-bioc/R/site-library --timings dressCheck_0.49.0.tar.gz StartedAt: 2025-11-20 12:25:09 -0500 (Thu, 20 Nov 2025) EndedAt: 2025-11-20 12:26:00 -0500 (Thu, 20 Nov 2025) EllapsedTime: 51.6 seconds RetCode: 0 Status: OK CheckDir: dressCheck.Rcheck Warnings: 0