Package: dressCheck Version: 0.49.0 Command: /home/biocbuild/bbs-3.23-bioc/R/bin/R CMD build --keep-empty-dirs --no-resave-data dressCheck StartedAt: 2025-11-11 11:15:23 -0500 (Tue, 11 Nov 2025) EndedAt: 2025-11-11 11:15:47 -0500 (Tue, 11 Nov 2025) EllapsedTime: 23.9 seconds RetCode: 0 Status: OK PackageFile: dressCheck_0.49.0.tar.gz PackageFileSize: 65.75 MiB