Package: dressCheck Version: 0.49.0 Maintainer: Vincent Carey MaintainerEmail: stvjc at channing.harvard.edu git_url: https://git.bioconductor.org/packages/dressCheck git_branch: devel git_last_commit: 8d71ec2 git_last_commit_date: 2025-10-29 09:31:58 -0500 (Wed, 29 Oct 2025)