Package: dorothea Version: 1.23.0 Command: /home/biocbuild/bbs-3.23-bioc/R/bin/R CMD build --keep-empty-dirs --no-resave-data dorothea StartedAt: 2025-11-11 11:15:23 -0500 (Tue, 11 Nov 2025) EndedAt: 2025-11-11 11:19:08 -0500 (Tue, 11 Nov 2025) EllapsedTime: 224.9 seconds RetCode: 0 Status: OK PackageFile: dorothea_1.23.0.tar.gz PackageFileSize: 34.04 MiB