Package: dominatRData Version: 0.99.1 Command: /home/biocbuild/bbs-3.23-bioc/R/bin/R CMD check --install=check:dominatRData.install-out.txt --library=/home/biocbuild/bbs-3.23-bioc/R/site-library --timings dominatRData_0.99.1.tar.gz StartedAt: 2025-11-13 12:16:21 -0500 (Thu, 13 Nov 2025) EndedAt: 2025-11-13 12:17:12 -0500 (Thu, 13 Nov 2025) EllapsedTime: 50.6 seconds RetCode: 0 Status: OK CheckDir: dominatRData.Rcheck Warnings: 0