Package: diggitdata Version: 1.43.0 Command: /home/biocbuild/bbs-3.23-bioc/R/bin/R CMD INSTALL diggitdata StartedAt: 2025-11-13 10:57:54 -0500 (Thu, 13 Nov 2025) EndedAt: 2025-11-13 10:58:02 -0500 (Thu, 13 Nov 2025) EllapsedTime: 7.7 seconds RetCode: 0 Status: OK